BEGIN:VCALENDAR
VERSION:2.0
PRODID:-//Despoblación Interdisciplinar - ECPv6.15.20//NONSGML v1.0//EN
CALSCALE:GREGORIAN
METHOD:PUBLISH
X-WR-CALNAME:Despoblación Interdisciplinar
X-ORIGINAL-URL:https://despoblacioninterdisciplinar.unizar.es
X-WR-CALDESC:Eventos para Despoblación Interdisciplinar
REFRESH-INTERVAL;VALUE=DURATION:PT1H
X-Robots-Tag:noindex
X-PUBLISHED-TTL:PT1H
BEGIN:VTIMEZONE
TZID:UTC
BEGIN:STANDARD
TZOFFSETFROM:+0000
TZOFFSETTO:+0000
TZNAME:UTC
DTSTART:20240101T000000
END:STANDARD
END:VTIMEZONE
BEGIN:VEVENT
DTSTART;TZID=UTC:20251105T090000
DTEND;TZID=UTC:20251107T200000
DTSTAMP:20260423T200334
CREATED:20250227T082409Z
LAST-MODIFIED:20250227T082411Z
UID:1621-1762333200-1762545600@despoblacioninterdisciplinar.unizar.es
SUMMARY:III Congreso Interdisciplinar sobre Despoblación
DESCRIPTION:Desde la Universidad de Zaragoza se organiza el III Congreso Interdisciplinar sobre Despoblación\, que se celebrará en su Facultad de Filosofía y Letras entre el 5 y el 7 de noviembre de 2025.
URL:https://despoblacioninterdisciplinar.unizar.es/evento/iii-congreso-interdisciplinar-sobre-despoblacion/
END:VEVENT
END:VCALENDAR